BEGIN:VCALENDAR
VERSION:2.0
PRODID:-//LOGISTOP - ECPv6.9.0//NONSGML v1.0//EN
CALSCALE:GREGORIAN
METHOD:PUBLISH
X-ORIGINAL-URL:https://logistop.org
X-WR-CALDESC:Eventos para LOGISTOP
REFRESH-INTERVAL;VALUE=DURATION:PT1H
X-Robots-Tag:noindex
X-PUBLISHED-TTL:PT1H
BEGIN:VTIMEZONE
TZID:Europe/Madrid
BEGIN:DAYLIGHT
TZOFFSETFROM:+0100
TZOFFSETTO:+0200
TZNAME:CEST
DTSTART:20230326T010000
END:DAYLIGHT
BEGIN:STANDARD
TZOFFSETFROM:+0200
TZOFFSETTO:+0100
TZNAME:CET
DTSTART:20231029T010000
END:STANDARD
END:VTIMEZONE
BEGIN:VEVENT
DTSTART;TZID=Europe/Madrid:20231115T090000
DTEND;TZID=Europe/Madrid:20231115T160000
DTSTAMP:20260420T112019
CREATED:20230703T102722Z
LAST-MODIFIED:20250225T154848Z
UID:4675-1700038800-1700064000@logistop.org
SUMMARY:Rumbo a la transición energética en la logística (jornada de aportación de valor - presencial)
DESCRIPTION:¿Cuál es el presente y futuro de la transición energética en la logística?El próximo 15 de noviembre\, Logistop\, en colaboración con el Ayuntamiento de Puertollano\, la Cámara de Comercio e Industria de Ciudad Real y el CNH2 – Centro Nacional del Hidrógeno\, llevará a cabo el evento presencial: «Rumbo a la Transición Energética en la Logística». Esta jornada se presenta como una oportunidad única para líderes en el sector que deseen explorar los temas más actuales en el mundo de la logística y la transición energética. \n\n\n\nCon la participación de expertos del ámbito tanto público como privado y entidades líderes en descarbonización y sostenibilidad en el ámbito logístico\, «Rumbo a la Transición Energética en la Logística» es una oportunidad única de explorar temas de actualidad en el mundo de la logística y la transición energética\, gracias a una agenda repleta de contenido de alto valor.La jornada plantea diferentes acciones que permitirán a los asistentes recibir información de alto interés\, a través de la participación de entidades y ponentes de reconocido prestigio\, generación de entornos de interacción común y actividades de networking más cercanas de forma que se puedan iniciar o reforzar sinergias y alianzas en este ámbito.Evento exclusivo presencial e imprescindible registro. Si no eres socio de Logistop y deseas asistir\, puedes contactarnos a través del email info@logistop.org. \n\n\n\nAGENDA \n\n\n\n\n09:00h. Recepción de asistentes.\n\n\n\n09:30h. Inauguración\, moderada por María Castellanos\, concejal de promoción empresarial\, gestión de fondos\, política de empleo y formación\, Ayuntamiento de Puertollano: \n\nTomás de la Vega\, director gerente de Logistop.\n\n\n\nMiguel Ángel Fernández\, gerente\, Centro Nacional del Hidrógeno.\n\n\n\nJosé Luis Ruiz Heras\, presidente en Cámara de Comercio e Industria de Ciudad Real.\n\n\n\nAlipio García Rodríguez\, Director General de Transición Energética\, Gobierno de Castilla-La Mancha.\n\n\n\nMiguel Ángel Ruiz Rodríguez\, alcalde\, Ayuntamiento de Puertollano.\n\n\n\n\n\n10:00h. La transición energética: desmontando mitos y avanzando en realidades\, Juan Carlos de Pablo\, Head of Innovation de Descarbonización\, Logistop.\n\n\n\n10:30h. Mesa redonda: Infraestructuras logísticas y entornos portuarios como agentes activos y catalizadores en la transición energética\, moderada por Asier Maiztegi\, director estrategias descarbonización para la economía\, TECNALIA. \n\nMar Blázquez\, subdirectora adjunta de Eficiencia Energética\, Dirección General de Política Energética y Minas\, Secretaría de Estado de Energía\, Ministerio para la Transición Ecológica y el Reto Demográfico.\n\n\n\n\n\nJuan Vera\, experto en biogás e hidrógeno.\n\n\n\nCarlos Salinas\, responsable departamento de movilidad\, MOLGAS ENERGÍA S.A.U.\n\n\n\nJavier Pollos\, socio de Atlanthy.\n\n\n\nFélix Gómez\, Technology & Innovation Lead\, Exolum.\n\n\n\n\n\n12:00h. Coffee Break.\n\n\n\n12:45h. Mesa redonda: Descarbonización del transporte de mercancías\, moderada por Javier Garrido\, Transport Researcher\, CENIT.\n\nJesús Sánchez Soria\, subdirector Centro de la Dirección de Servicios Logísticos\, ADIF.Isabel Sánchez\, consejera delegada en Grupo Disfrimur\, directora servicios generales\, DISFRIMUR.Eduardo Segundo Puentes\, Transport Strategy Granter\, FI-GROUP.Enrique Pablo Palop Sánchez\, jefe de Servicio\, Subdirección General de Prospectiva\, Estrategia y Normativa en Materia de Energía\, Secretaría de Estado de Energía\, Ministerio para la Transición Ecológica y el Reto Demográfico.\n\n\n\nAntonio Lorenzo Egido\, director de Producción de Refino del Complejo Industrial de Repsol en Puertollano.\n\n\n\n\n\n14:15h. Cóctel networking.\n\n\n\n\nEvento exclusivo presencial e imprescindible registro. Si no eres socio de Logistop y deseas asistir\, puedes contactarnos a través del email info@logistop.org.
URL:https://logistop.org/evento/rumbo-a-la-transicion-energetica-en-la-logistica/
CATEGORIES:Jornada de aportación de valor
ATTACH;FMTTYPE=image/png:https://logistop.org/wp-content/uploads/2025/02/Rumbo-a-la-transicion-energetica-en-la-logistica.png
END:VEVENT
END:VCALENDAR