BEGIN:VCALENDAR
VERSION:2.0
PRODID:-//LOGISTOP - ECPv6.9.0//NONSGML v1.0//EN
CALSCALE:GREGORIAN
METHOD:PUBLISH
X-ORIGINAL-URL:https://logistop.org
X-WR-CALDESC:Eventos para LOGISTOP
REFRESH-INTERVAL;VALUE=DURATION:PT1H
X-Robots-Tag:noindex
X-PUBLISHED-TTL:PT1H
BEGIN:VTIMEZONE
TZID:Europe/Madrid
BEGIN:DAYLIGHT
TZOFFSETFROM:+0100
TZOFFSETTO:+0200
TZNAME:CEST
DTSTART:20240331T010000
END:DAYLIGHT
BEGIN:STANDARD
TZOFFSETFROM:+0200
TZOFFSETTO:+0100
TZNAME:CET
DTSTART:20241027T010000
END:STANDARD
END:VTIMEZONE
BEGIN:VEVENT
DTSTART;TZID=Europe/Madrid:20240522T100000
DTEND;TZID=Europe/Madrid:20240522T113000
DTSTAMP:20260421T163854
CREATED:20240507T051416Z
LAST-MODIFIED:20250225T154349Z
UID:4704-1716372000-1716377400@logistop.org
SUMMARY:Sesión de enfoque | Proyectos para la mejora de la DUM
DESCRIPTION:Como continuación al Innovation Lab del pasado 20 de marzo\, se convoca el próximo 22 de mayo de 10:00 a 11:30h (CEST) la sesión de enfoque Proyectos para la mejora de la DUM.  \n\n\n\nEl objetivo de esta sesión es capitalizar la lluvia de ideas que se produjo en el pasado Innovation Lab de Logística Urbana Colaborativa\, con orientación a la convocatoria Misiones 2024.  \n\n\n\nPara ello\, las ViceHead of Innovation de la línea estratégica de Logística Urbana de Logistop Iraide Unanue (Tecnalia) y Carolina Ciprés (ZLC) dinamizarán esta sesión de enfoque con la siguiente agenda:  \n\n\n\n\nAnálisis de las ideas propuestas en el Innovation Lab de Logística Urbana Colaborativa del 20 de marzo \n\n\n\nPresentación de la convocatoria Misiones 2024. \n\n\n\nContraste de las ideas procedentes del Innovation Lab con la convocatoria misiones\, y próximos pasos para la ideación de iniciativas. \n\n\n\n\nSi no eres socio de Logistop y deseas asistir a esta sesión de enfoque\, ponte en contacto con nosotros a través del email: info@logistop.org.
URL:https://logistop.org/evento/sesion-de-enfoque-proyectos-para-la-mejora-de-la-dum/
LOCATION:Valencia
CATEGORIES:Sesión de Enfoque
ATTACH;FMTTYPE=image/png:https://logistop.org/wp-content/uploads/2025/02/Sesion-de-enfoque-22-de-mayo.png
END:VEVENT
BEGIN:VEVENT
DTSTART;TZID=Europe/Madrid:20240529T093000
DTEND;TZID=Europe/Madrid:20240529T110000
DTSTAMP:20260421T163854
CREATED:20240429T053326Z
LAST-MODIFIED:20250225T154644Z
UID:4701-1716975000-1716980400@logistop.org
SUMMARY:Sesión de enfoque | Detección de oportunidades para definir iniciativas innovadoras en el ámbito del intercambio armonizado de datos en las cadenas logístico-portuarias
DESCRIPTION:Como continuación al Innovation Lab del pasado3 de abril y al Observatory Logistic del pasado 21 de febrero\, el próximo 29 de mayo de 09:30 a 11:00h (CEST) llevaremos a cabo la sesión de enfoque Detección de oportunidades para definir iniciativas innovadoras en el ámbito del intercambio armonizado de datos en las cadenas logístico-portuarias. \n\n\n\nDurante esta Sesión de Enfoque analizaremos cómo las convocatorias asociadas a los proyectos europeos presentados en el Innovation Lab y en el Observatory Logistic han hecho hincapié en la importancia de normalizar y armonizar los datos\, así como de garantizar la interoperabilidad. En este sentido\, la intención será identificar los objetivos o resultados esperados en las convocatorias europeas pasadas y explorar estrategias para abordar estas cuestiones en las convocatorias futuras.  \n\n\n\nAdemás\, trataremos de evaluar el interés de los socios de Logistop en estos campos\, en particular de aquellos que están más estrechamente vinculados al área de Logística Portuaria\, con el fin de identificar si esto nos pudiese llevar al desarrollo de un proyecto dentro de este grupo de trabajo.  \n\n\n\nSi no eres socios de Logistop y deseas asistir a esta sesión de enfoque\, ponte en contacto con nosotros a través del email: info@logistop.org.
URL:https://logistop.org/evento/sesion-de-enfoque-intercambio-armonizado-de-datos-en-las-cadenas-logistico-portuarias/
LOCATION:Valencia
CATEGORIES:Sesión de Enfoque
ATTACH;FMTTYPE=image/png:https://logistop.org/wp-content/uploads/2025/02/Sesion-de-enfoque-29-de-mayo.png
END:VEVENT
END:VCALENDAR