BEGIN:VCALENDAR
VERSION:2.0
PRODID:-//LOGISTOP - ECPv6.9.0//NONSGML v1.0//EN
CALSCALE:GREGORIAN
METHOD:PUBLISH
X-ORIGINAL-URL:https://logistop.org
X-WR-CALDESC:Eventos para LOGISTOP
REFRESH-INTERVAL;VALUE=DURATION:PT1H
X-Robots-Tag:noindex
X-PUBLISHED-TTL:PT1H
BEGIN:VTIMEZONE
TZID:Europe/Madrid
BEGIN:DAYLIGHT
TZOFFSETFROM:+0100
TZOFFSETTO:+0200
TZNAME:CEST
DTSTART:20220327T010000
END:DAYLIGHT
BEGIN:STANDARD
TZOFFSETFROM:+0200
TZOFFSETTO:+0100
TZNAME:CET
DTSTART:20221030T010000
END:STANDARD
END:VTIMEZONE
BEGIN:VEVENT
DTSTART;TZID=Europe/Madrid:20221018T093000
DTEND;TZID=Europe/Madrid:20221018T110000
DTSTAMP:20260420T024542
CREATED:20220722T053854Z
LAST-MODIFIED:20250225T155015Z
UID:4635-1666085400-1666090800@logistop.org
SUMMARY:Seguridad logístico-portuaria: tendencias y aplicaciones en ciberseguridad en puertos. | Webinar Logistop
DESCRIPTION:La seguridad portuaria y\, en particular\, la ciberseguridad de los sistemas y plataformas digitales asociadas a las cadenas logísticas es cada vez más relevante a medida que las empresas avanzan en su transformación digital. Así mismo\, la vulnerabilidad de estos sistemas se ha puesto de manifiesto en el actual contexto de incertidumbre geopolítica y de grandes disrupciones generadas por la pandemia de Covid19.   \n\n\n\nEn este contexto\, es importante conocer los riesgos a los que se exponen las cadenas de transporte en un mundo cada vez más digitalizado\, así como lo es disponer de las herramientas adecuadas para disuadir y neutralizar los ataques cibernéticos que hoy en día se producen de forma recurrente en instalaciones logísticas críticas como puertos\, aeropuertos\, grandes almacenes logísticos\, terminales intermodales\, etc.  \n\n\n\nTeniendo en cuenta este contexto y con el objetivo de conocer de la mano de expertos en el campo de la ciberseguridad\, el contexto y situación actual de este ámbito así como los riesgos que afrontan hoy en día las empresas logísticas\, presentar ejemplos y casos de éxito aplicados al sector logístico para la mejora de sus capacidades de ciberseguridad y compartir experiencias de innovación en el ámbito de la ciberseguridad e identificar los retos de futuro que tiene la industria logístico-portuaria\, el martes 18 de octubre (09:30 – 11:00h[GMT+2]) desde Logistop\, os invitamos a participar en el webinar “Seguridad logístico-portuaria: tendencias y aplicaciones en ciberseguridad en puertos” (enlace de inscripción).   \n\n\n\nPara ello\, contaremos con el siguiente programa:  \n\n\n\n\nPresentación\, por Tomás de la Vega\, director gerente\, Logistop.  \nIntroducción\, por Alicia Enríquez Manilla\, equipo de innovación y desarrollo del Clúster Portuario\, Fundación Valenciaport. \nLa ciberseguridad en un entorno complejo de múltiples agentes: prácticas y técnicas de ciberseguridad aplicables a la logística portuaria\, por Maite Álvarez\, directora de proyectos de ciberseguridad\, Tecnalia. \nRiesgos\, tendencias y recomendaciones para evitar incidentes de ciberseguridad en ámbito portuario\, por Diego Fernández González\, responsable de ciberseguridad\, Centum Digital. \nZero trust\, la seguridad para los puertos inteligentes\, por Javier Prieto Vilas\, arquitecto innovación seguridad\, Axians – Vinci Energies.  \nProyectos de innovación en el área de la ciberseguridad portuaria\, Ángel Laguna Argente\, técnico de proyectos I+D+i -TIC\, Fundación Valenciaport. \nTurno de preguntas. \n\n\n\n\n.
URL:https://logistop.org/evento/webinar-tendencias-y-aplicaciones-ciber-seguridad-portuaria/
CATEGORIES:Webinar
ATTACH;FMTTYPE=image/png:https://logistop.org/wp-content/uploads/2025/02/Webinar-181022_web-y-linkedin.png
END:VEVENT
END:VCALENDAR