BEGIN:VCALENDAR
VERSION:2.0
PRODID:-//LOGISTOP - ECPv6.9.0//NONSGML v1.0//EN
CALSCALE:GREGORIAN
METHOD:PUBLISH
X-ORIGINAL-URL:https://logistop.org
X-WR-CALDESC:Eventos para LOGISTOP
REFRESH-INTERVAL;VALUE=DURATION:PT1H
X-Robots-Tag:noindex
X-PUBLISHED-TTL:PT1H
BEGIN:VTIMEZONE
TZID:Europe/Madrid
BEGIN:DAYLIGHT
TZOFFSETFROM:+0100
TZOFFSETTO:+0200
TZNAME:CEST
DTSTART:20230326T010000
END:DAYLIGHT
BEGIN:STANDARD
TZOFFSETFROM:+0200
TZOFFSETTO:+0100
TZNAME:CET
DTSTART:20231029T010000
END:STANDARD
END:VTIMEZONE
BEGIN:VEVENT
DTSTART;TZID=Europe/Madrid:20230207T100000
DTEND;TZID=Europe/Madrid:20230207T150000
DTSTAMP:20260421T065941
CREATED:20230113T104312Z
LAST-MODIFIED:20250225T155007Z
UID:4647-1675764000-1675782000@logistop.org
SUMMARY:Distrifuture 1\, una visión hacia el futuro de la distribución urbana más allá de lo convencional | Jornada de aportación de valor
DESCRIPTION:  \n\n\n\nDistrifuture 1\, una visión hacia el futuro de la distribución urbana más allá de lo convencional es un evento presencial de acceso preferente para los socios de Logistop dedicado a la logística urbana del futuro. (Imprescindible registro previo) \n\n\n\nSi no eres socio de Logistop y estás interesado en asistir\, contacta con nosotros a través del correo electrónico info@logistop.org. \n\n\n\nLa agenda\, sujeta a cambios\, es la siguiente: \n\n\n\n\n10:00h. Registro de los asistentes. \n\n\n\n10:15h. Bienvenida a cargo de Pablo Gómez\, presidente de Logistop. \n\n\n\n10:25h. Desarrollo de las ciudades y la distribución urbana\, por Alfonso Vegara\, fundador y presidente de honor\, Fundación Metropoli. \n\n\n\n10:45h. Presentación del proyecto de MicroHubs 4.0: propuesta para una Distribución Urbana conectada\, interoperable\, colaborativa y sostenible en la ciudad de Madrid\, por Ramón García\, director general\, CITET – Centro de Innovación para la Logística y el Transporte de Mercancías. \n\n\n\n11:05h. Presentación del proyecto innovador de MERCAGRANADA para una DUM sostenible y colaborativa en la ciudad de Granada\, por Vanessa Moreno\, jefa de coordinación de la Red de Mercas\, MERCASA. \n\n\n\n11:25h. El futuro de nuestras ciudades\, ¿qué son las Dark Stores Automáticas y el Nanofulfillment?\, por Diego Zúñiga García-Falces\, director general\, Ubyko. \n\n\n\n11:45h. Tecnologías innovadoras para la micromovilidad sostenible y neutra en CO2\, por F. Javier Herrera\, desarrollo de negocio ICT para Industria en Madrid\, Tecnalia. \n\n\n\n12:05h. Proyecto SUSMILE (Sustainable Last Mile Logistics)\, por Nerea Rojas\, responsable de áreas estratégicas\, Clúster de Movilidad y Logística de Euskadi. \n\n\n\n12:20h. Coffee Break. \n\n\n\n12:45h. “Utopías y distopías”\, una conversación en directo entre Pablo Gómez y Eduardo Uriarte\, VP Technology and Expansion\, Goggo Network. (También retransmitido vía streaming) \n\n\n\n14:00h. Aperitivo networking. \n\n\n\n15:00h. Fin de la jornada. 
URL:https://logistop.org/evento/distrifuture/
CATEGORIES:Jornada de aportación de valor
ATTACH;FMTTYPE=image/png:https://logistop.org/wp-content/uploads/2025/02/Imagen-7-feb.png
END:VEVENT
END:VCALENDAR