BEGIN:VCALENDAR
VERSION:2.0
PRODID:-//LOGISTOP - ECPv6.9.0//NONSGML v1.0//EN
CALSCALE:GREGORIAN
METHOD:PUBLISH
X-WR-CALNAME:LOGISTOP
X-ORIGINAL-URL:https://logistop.org
X-WR-CALDESC:Eventos para LOGISTOP
REFRESH-INTERVAL;VALUE=DURATION:PT1H
X-Robots-Tag:noindex
X-PUBLISHED-TTL:PT1H
BEGIN:VTIMEZONE
TZID:Europe/Madrid
BEGIN:DAYLIGHT
TZOFFSETFROM:+0100
TZOFFSETTO:+0200
TZNAME:CEST
DTSTART:20220327T010000
END:DAYLIGHT
BEGIN:STANDARD
TZOFFSETFROM:+0200
TZOFFSETTO:+0100
TZNAME:CET
DTSTART:20221030T010000
END:STANDARD
END:VTIMEZONE
BEGIN:VEVENT
DTSTART;TZID=Europe/Madrid:20220921T093000
DTEND;TZID=Europe/Madrid:20220921T110000
DTSTAMP:20260422T131311
CREATED:20220722T051949Z
LAST-MODIFIED:20250225T155114Z
UID:4633-1663752600-1663758000@logistop.org
SUMMARY:Evolución del Plan de Recuperación Transformación y Resiliencia; Fondos Next Generation. Previsión del marco de ayudas de interés para el 4º trimestre. | Webinar Logistop
DESCRIPTION:El miércoles 21 de septiembre (09:30 – 11:00h [GMT+2]) desde Logistop\, os invitamos a participar en el webinar «Evolución del Plan de Recuperación Transformación y Resiliencia; Fondos Next Generation. Previsión del marco de ayudas de interés para el 4º trimestre». \n\n\n\nDentro del ambicioso Plan de Recuperación\, Transformación y Resiliencia se han convocado en el primer  semestre del 2022 la mayor parte de las líneas de ayuda previstas para este año con fondos Next Generation EU. \n\n\n\nEn este segundo semestre está prevista la publicación de las resoluciones de concesión de estas ayudas\, pero también está prevista la publicación de otras líneas nuevas orientadas a la digitalización y a la transición energética que pueden ser de interés. \n\n\n\nA parte de estas líneas\, se mantienen vigentes otros incentivos públicos\, siempre disponibles para las empresas a través de los Ministerios\, CDTI\, IDAE y de las propias Comunidades Autónomas que fomentarán la inversión empresarial y la innovación.  \n\n\n\nAdemás\, contaremos con la experiencia de una empresa del sector ejemplo de caso de éxito.
URL:https://logistop.org/evento/webinar-evolucion-del-plan-de-recuperacion-transformacion-y-resiliencia/
CATEGORIES:Webinar
END:VEVENT
END:VCALENDAR