BEGIN:VCALENDAR
VERSION:2.0
PRODID:-//LOGISTOP - ECPv6.9.0//NONSGML v1.0//EN
CALSCALE:GREGORIAN
METHOD:PUBLISH
X-WR-CALNAME:LOGISTOP
X-ORIGINAL-URL:https://logistop.org
X-WR-CALDESC:Eventos para LOGISTOP
REFRESH-INTERVAL;VALUE=DURATION:PT1H
X-Robots-Tag:noindex
X-PUBLISHED-TTL:PT1H
BEGIN:VTIMEZONE
TZID:Europe/Madrid
BEGIN:DAYLIGHT
TZOFFSETFROM:+0100
TZOFFSETTO:+0200
TZNAME:CEST
DTSTART:20220327T010000
END:DAYLIGHT
BEGIN:STANDARD
TZOFFSETFROM:+0200
TZOFFSETTO:+0100
TZNAME:CET
DTSTART:20221030T010000
END:STANDARD
END:VTIMEZONE
BEGIN:VEVENT
DTSTART;TZID=Europe/Madrid:20220929T093000
DTEND;TZID=Europe/Madrid:20220929T113000
DTSTAMP:20260420T125206
CREATED:20220722T052856Z
LAST-MODIFIED:20250225T155112Z
UID:4634-1664443800-1664451000@logistop.org
SUMMARY:El futuro de la logística portuaria: tecnología y sostenibilidad. | Logis-Talks
DESCRIPTION:El jueves 29 de septiembre (09:30 – 11:30h[GMT+2]) desde Logistop\, os invitamos a participar en Logis-Talks “El futuro de la logística portuaria: tecnología y sostenibilidad” (enlace de inscripción). \n\n\n\nLogis-Talks es el nuevo formato que desde Logistop lanzamos este año con el objetivo de analizar y debatir la actualidad del sector\, así como los desafíos y retos que debemos hacer frente\, en nuestras áreas de trabajo. \n\n\n\nLa logística portuaria afronta en la actualidad dos grandes desafíos: la digitalización y la sostenibilidad. Por ello\, en este punto en el que nos encontramos\, la apuesta por la tecnología\, la innovación y la sostenibilidad adquiere un papel fundamental en la definición de la logística portuaria del futuro. \n\n\n\n¿Cuáles son los retos a los que debe hacer frente la logística portuaria? ¿Cuáles son las claves para su transformación digital? ¿Qué papel desempeñan actualmente las plataformas digitales Smart Port? ¿Cómo ha cambiado hyperloop el paradigma del transporte de mercancías? ¿Cómo podemos monitorizar de forma más eficiente y sostenible las aguas portuarias? ¿Cuáles son los próximos pasos que debe afrontar la logística portuaria? \n\n\n\nEstas son algunas de las cuestiones sobre las que debatiremos el próximo 29 de septiembre en Logis-Talks “El futuro de la logística portuaria: tecnología y sostenibilidad” (inscríbete aquí).  \n\n\n\nPara ello\, contaremos con el siguiente programa: \n\n\n\n\nPresentación e introducción\, por Tomás de la Vega\, director gerente\, Logistop.\nLa digitalización como respuesta a los retos de la logística portuaria\, por José Oliver\, director gerente\, Infoport.\nEl potencial de hyperloop para cambiar el transporte de mercancías: hyperloop de mercancías y tecnología derivada SELF\, por Jorge Melero Corell\, Business Intelligence Manager\, ZELEROS.\nSoluciones para la detección temprana y el control de incidentes de contaminación en aguas portuarias\, basadas en plataformas digitales SmarPorts\,por Coqui García Román\, directora del departamento de I+D+i & Product Manager\, Hiades Consulting.\nPróximos pasos en la logística portuaria\, por Antonio Sevilla Recio\, director\, LUCYGO.\nMesa redonda.\nTurno de preguntas.
URL:https://logistop.org/evento/logistalks-el-futuro-de-la-logistica-portuaria-tecnologia-y-sostenibilidad/
CATEGORIES:Logis-Talks
ATTACH;FMTTYPE=image/png:https://logistop.org/wp-content/uploads/2025/02/LogisTalks-290922_web-y-LinkedIn.png
END:VEVENT
END:VCALENDAR