BEGIN:VCALENDAR
VERSION:2.0
PRODID:-//LOGISTOP - ECPv6.9.0//NONSGML v1.0//EN
CALSCALE:GREGORIAN
METHOD:PUBLISH
X-ORIGINAL-URL:https://logistop.org
X-WR-CALDESC:Eventos para LOGISTOP
REFRESH-INTERVAL;VALUE=DURATION:PT1H
X-Robots-Tag:noindex
X-PUBLISHED-TTL:PT1H
BEGIN:VTIMEZONE
TZID:Europe/Madrid
BEGIN:DAYLIGHT
TZOFFSETFROM:+0100
TZOFFSETTO:+0200
TZNAME:CEST
DTSTART:20230326T010000
END:DAYLIGHT
BEGIN:STANDARD
TZOFFSETFROM:+0200
TZOFFSETTO:+0100
TZNAME:CET
DTSTART:20231029T010000
END:STANDARD
END:VTIMEZONE
BEGIN:VEVENT
DTSTART;TZID=Europe/Madrid:20230302T093000
DTEND;TZID=Europe/Madrid:20230302T110000
DTSTAMP:20260420T091642
CREATED:20230209T095239Z
LAST-MODIFIED:20250225T155003Z
UID:4660-1677749400-1677754800@logistop.org
SUMMARY:Corredores de cero emisiones entre puertos españoles (Descarbonización y sostenibilidad aplicada a la cadena logística y Logística portuaria) | Innovation Lab
DESCRIPTION:  \n\n\n\nSi no eres socio de Logistop y deseas asistir a este Innovation Lab\, ponte en contacto con nosotros a través del email: info@logistop.org. \n\n\n\nEn esta sesión tendremos como objetivo formar un grupo de socios interesados y comprometidos en participar en comunidades y grupos de trabajo vinculados a corredores verdes o de cero emisiones entre puertos nacionales e internacionales\, cubriendo las operaciones portuarias y el transporte marítimo como terrestre. \n\n\n\nLos puertos están adoptando estrategias con el objetivo de descarbonizar la comunidad portuaria\, que también tienen un alto impacto sobre las cadenas logísticas nacionales e internacionales que sirven. Debido a esto\, actualmente están trabajando intensamente en la definición de corredores de cero emisiones entre puertos y también en el “hinterland” al cual están sirviendo. Por ello\, en este Innovation Lab trataremos la definición de corredor verde\, veremos ejemplos de corredores verdes y definiremos un grupo de trabajo para articular un proyecto con socios de Logistop. \n\n\n\nLa agenda de la sesión es la siguiente: \n\n\n\n\n9:30-9:35h: Introducción y bienvenida\, por Tomás de la Vega\, director gerente de Logistop. \n\n\n\n9:35-9:45h: ¿Por qué son necesarios los green corridors?\, por Juan Carlos de Pablo\, socio de Ecoinversol y Head of Innovation de Descarbonización y sostenibilidad aplicada a la cadena logística de Logistop.\n\n\n\n9:45-10:00h: La transición energética en el Puerto de Barcelona y la estrategia de corredores verdes\, por Héctor Calls\, director de medioambiente del Port de Barcelona.\n\n\n\n10:00-10:15h: Corredores verdes a nivel nacional e internacional\, por Maurici Hervàs\, estudiante de doctorado sobre transición energética\, CENIT.\n\n\n\n10:15-10:30h: Proyecto de Corredores verdes entre puertos españoles. Identificación de las necesidades de los agentes involucrados\, por Javier Garrido\, Javier Garrido\, Researcher and Consultant\, CENIT.\n\n\n\n10:30-11:00h: Preguntas y debate. 
URL:https://logistop.org/evento/innovation-lab-corredores-de-cero-emisiones/
LOCATION:Valencia
CATEGORIES:Innovation Lab
ATTACH;FMTTYPE=image/png:https://logistop.org/wp-content/uploads/2025/02/InnovationLab.png
END:VEVENT
BEGIN:VEVENT
DTSTART;TZID=Europe/Madrid:20230315T093000
DTEND;TZID=Europe/Madrid:20230315T113000
DTSTAMP:20260420T091642
CREATED:20230209T090306Z
LAST-MODIFIED:20250225T155004Z
UID:4653-1678872600-1678879800@logistop.org
SUMMARY:LogisTalks | Impacto de la sostenibilidad en logística portuaria: retos y oportunidades
DESCRIPTION:  \n\n\n\nEl próximo miércoles 15 de marzo (de 09:30h a 11:30h – CET) desde Logistop organziamos el evento LogisTalks “Impacto de la sostenibilidad en logística portuaria: retos y oportunidades”. Inscripción en este enlace.De la mano de expertos en la materia\, analizaremos y debatiremos sobre el impacto que la sostenibilidad tiene en la logística portuaria\, centrándonos en cuáles son sus retos y las oportunidades que ofrece al sector. El programa de la sesión\, moderada por Tomás de la Vega\, director gerente de Logistop\, es el siguiente: \n\n\n\n\nLa descarbonización en los puertos\, por Miriam Bueno\, Subdirectora General de Prospectiva\, Estrategia y Normativa en Materia de Energía\, Ministerio para la Transición Ecológica y el Reto Demográfico.\n\n\n\nPaquete regulatorio Fit-for-55: Evaluación de impactos operativos y económicos en el sector marítimo-portuario. Nuevos modelos de negocio asociados al cumplimiento normativo y la transición energética\, por Guillermo Massot\, Managing Partner\, Althium.\n\n\n\nSoluciones de transporte sostenibles – TEVVA Hydrogen Electric Trucks\, por Luis Targhetta\, Key Account Manager\, TEVVA.\n\n\n\nDescarbonización de la Industria Marítima de la mano de la tecnología\, por Josu Goiogana\, Sales Manager Wartsila Ibérica\, Marine Power.\n\n\n\n\n ¡Os esperamos el próximo 15 de marzo! No olvides inscribirte en este enlace. Para más información puedes escribirnos a info@logistop.org. \n\n\n\n 
URL:https://logistop.org/evento/lgistalks-impacto-sostenibilidad-logistica-portuaria/
LOCATION:Valencia
CATEGORIES:LogisTalks
ATTACH;FMTTYPE=image/jpeg:https://logistop.org/wp-content/uploads/2025/02/LogisTalks-150323.jpg
END:VEVENT
BEGIN:VEVENT
DTSTART;TZID=Europe/Madrid:20230322T093000
DTEND;TZID=Europe/Madrid:20230322T110000
DTSTAMP:20260420T091642
CREATED:20230209T100035Z
LAST-MODIFIED:20250225T155002Z
UID:4661-1679477400-1679482800@logistop.org
SUMMARY:Descarbonización y sostenibilidad aplicada a la cadena logística y Logística portuaria | Innovation Lab
DESCRIPTION:  \n\n\n\nSi no eres socios de Logistop y deseas asistir a este Innovation Lab\, ponte en contacto con nosotros a través del email: info@logistop.org.
URL:https://logistop.org/evento/descarbonizacion-y-sostenibilidad-aplicada-a-la-cadena-logistica-y-logistica-portuaria-innovation-lab-copy/
LOCATION:Valencia
CATEGORIES:Innovation Lab
ATTACH;FMTTYPE=image/png:https://logistop.org/wp-content/uploads/2025/02/Logo-Logistop-eventos.png
END:VEVENT
BEGIN:VEVENT
DTSTART;TZID=Europe/Madrid:20230329T093000
DTEND;TZID=Europe/Madrid:20230329T110000
DTSTAMP:20260420T091642
CREATED:20230209T085614Z
LAST-MODIFIED:20250225T155002Z
UID:4650-1680082200-1680087600@logistop.org
SUMMARY:Observatory logistic | Retos y desafíos de la Logística Urbana en un entorno de incertidumbre
DESCRIPTION:  \n\n\n\nVivimos en un entorno de constante cambio que pone a prueba a todos los integrantes de la cadena de suministro y\, especialmente\, a la denominada última milla en la que se están produciendo acciones por parte de todos los stakeholders con impacto directo en la forma de gestionar las operaciones en el centro de nuestras ciudades.  Teniendo en cuenta este contexto\, y con el objetivo de realizar un análisis de entorno e identificar acciones y buenas prácticas que se están desarrollando en la actualidad o que puedan ayudar a acometer las acciones necesarias para afrontar los retos a futuro tomando como punto de partida el desarrollo de medios\, infraestructuras y tecnología para la DUM\, desde Logistop\, asociación referente en innovación logística\, os invitamos a participar\, el miércoles 29 de marzo (de 09:30h a 11:00h – CEST) en el Observatory logistic “Retos y desafíos de la Logística Urbana en un entorno de incertidumbre”. Inscripción en este enlace. En este evento\, además\, llevaremos a cabo la validación de acciones desarrolladas en el entorno del Proyecto europeo LEAD y en concreto del Living Lab de Madrid\, donde se ha afrontado la transformación de la última milla a través del desarrollo de una infraestructura física y la generación de un gemelo digital que pueda ayudarnos a dar respuesta a la problemática actual en esta y otras ciudades. Para ello\, en esta sesión presentada por Tomás de la Vega\, director gerente de Logistop\, contaremos con el siguiente programa:  \n\n\n\n\nRetos y desafíos de la Logística Urbana. La visión de Logistop.\n\nCarolina Ciprés y Daniel Latorre\, Vice-head y Head of Innovation\, Logística Urbana de Logistop.\n\n\n\n\n\n\n\nWorkshop Living Lab Madrid. Proyecto Europeo LEAD:\n\nIntroducción al piloto\, por Sergio Fernández\, EMT Madrid.\n\n\n\nHerramienta de decisión: modelos y resultados\, por Beatriz Royo\, Zaragoza Logistics Center – ZLC.\n\n\n\nImpacto económico\, social y ambiental\, por José Manuel Vasallo y Natalia Sobrino\, UPM.\n\n\n\n\n\n\n ¡Os esperamos el próximo 29 de marzo! No olvides inscribirte en este enlace. Para más información puedes escribirnos a info@logistop.org. \n\n\n\n 
URL:https://logistop.org/evento/observatory-logistic-logistica-urbana/
LOCATION:Valencia
CATEGORIES:Observatory logistic
ATTACH;FMTTYPE=image/png:https://logistop.org/wp-content/uploads/2025/02/Observatory-Logistic-.png
END:VEVENT
END:VCALENDAR