BEGIN:VCALENDAR
VERSION:2.0
PRODID:-//LOGISTOP - ECPv6.9.0//NONSGML v1.0//EN
CALSCALE:GREGORIAN
METHOD:PUBLISH
X-ORIGINAL-URL:https://logistop.org
X-WR-CALDESC:Eventos para LOGISTOP
REFRESH-INTERVAL;VALUE=DURATION:PT1H
X-Robots-Tag:noindex
X-PUBLISHED-TTL:PT1H
BEGIN:VTIMEZONE
TZID:Europe/Madrid
BEGIN:DAYLIGHT
TZOFFSETFROM:+0100
TZOFFSETTO:+0200
TZNAME:CEST
DTSTART:20230326T010000
END:DAYLIGHT
BEGIN:STANDARD
TZOFFSETFROM:+0200
TZOFFSETTO:+0100
TZNAME:CET
DTSTART:20231029T010000
END:STANDARD
END:VTIMEZONE
BEGIN:VEVENT
DTSTART;TZID=Europe/Madrid:20230412T093000
DTEND;TZID=Europe/Madrid:20230412T110000
DTSTAMP:20260420T031413
CREATED:20230209T092039Z
LAST-MODIFIED:20250225T155000Z
UID:4656-1681291800-1681297200@logistop.org
SUMMARY:Corredores de cero emisiones entre puertos españoles (Descarbonización y sostenibilidad aplicada a la cadena logística y Logística portuaria) | Sesión de enfoque
DESCRIPTION:  \n\n\n\nSi no eres socios de Logistop y deseas asistir a esta sesión de enfoque\, ponte en contacto con nosotros a través del email: info@logistop.org.
URL:https://logistop.org/evento/sesion-enfoque-corredores-cero-emisiones-entre-puertos-espanoles/
LOCATION:Valencia
CATEGORIES:Sesión de Enfoque
ATTACH;FMTTYPE=image/png:https://logistop.org/wp-content/uploads/2025/02/Logo-Logistop-eventos.png
END:VEVENT
BEGIN:VEVENT
DTSTART;TZID=Europe/Madrid:20230419T093000
DTEND;TZID=Europe/Madrid:20230419T110000
DTSTAMP:20260420T031413
CREATED:20230209T085853Z
LAST-MODIFIED:20250225T155000Z
UID:4651-1681896600-1681902000@logistop.org
SUMMARY:Observatory logistic | Aplicación de tecnologías 4.0 para la integración digital de las cadenas logístico-portuarias
DESCRIPTION:  \n\n\n\nLa logística portuaria es parte esencial de las cadenas de suministro. Actualmente\, se pone de manifiesto la necesidad de una integración eficiente de los procesos que conectan agentes y transporte marítimo y terrestre\, con el objetivo de proporcionar servicios más fiables\, conectados y resilientes. Teniendo en cuenta este contexto\, y con el objetivo de presentar ejemplos prácticos teniendo en cuenta las últimas innovaciones disponibles basadas en el uso de tecnologías 4.0\, que actualmente permiten avanzar hacia la integración y eficiencia de las cadenas logístico-portuarias\, desde Logistop\, asociación referente en innovación logística\, os invitamos a participar\, el miércoles 19 de abril (de 09:30h a 11:00h – CEST) en el Observatory logistic “Aplicación de tecnologías 4.0 para la integración digital de las cadenas logístico-portuarias”. Inscripción en este enlace. \n\n\n\nLos temas que abordaremos en esta sesión son: \n\n\n\n\n​Uso y aplicación de redes blockchain.\n\n\n\nDiseño de algoritmos de decisión para la optimización del transporte marítimo a su llegada a puerto.\n\n\n\nDiseño de algoritmos de decisión basados en IA para la optimización de la distribución de mercancías hacia el hinterland portuario.\n\n\n\nAplicación de modelos de simulación para la optimización de la distribución de última milla.\n\n\n\n\nPara ello\, en esta sesión presentada por Tomás de la Vega\, director gerente de Logistop\, y moderada por Alicia Enríquez Manilla\, técnico de I+D+i – Researcher de la Fundación Valenciaport\, contaremos con el siguiente programa: \n\n\n\n\nTecnología Blockchain e interoperabilidad entre redes corporativas para la gestión de datos puerto-hinterland\, por Borja Sanz Gresa\, técnico de I+D+i – transformación digital\, Fundación Valenciaport.\n\n\n\nOptimización del hinterland portuario mediante modelos y algoritmos de IA\, por Jorge Feliu Escagüés\, técnico de I+D+i\, Fundación Valenciaport.\n\n\n\nPI node y logística urbana colaborativa\, por David Ciprés\, responsable línea de investigación\, ITAINNOVA\n\n\n\nOptimización de las operaciones portuarias en la lámina de agua a partir de datos digitalizados por las soluciones AMURA y compartidos desde AURORA SmartPort Platform\, por Coqui García\, PhD\,Chief Technology Innovation Officer\, HIADES Business Patterns\, SL\, y profesora asociada del dpto. de Matemáticas\, Estadística e Investigación Operativa de la Universidad de La Laguna.\n\n\n\n\n¡Os esperamos el próximo 19 de abril! No olvides inscribirte en este enlace. Para más información puedes escribirnos a info@logistop.org. \n\n\n\n 
URL:https://logistop.org/evento/observatory-logistic-logistica-portuaria/
LOCATION:Valencia
CATEGORIES:Observatory logistic
END:VEVENT
BEGIN:VEVENT
DTSTART;TZID=Europe/Madrid:20230424T093000
DTEND;TZID=Europe/Madrid:20230424T110000
DTSTAMP:20260420T031413
CREATED:20230413T084352Z
LAST-MODIFIED:20250225T154959Z
UID:4665-1682328600-1682334000@logistop.org
SUMMARY:Workshop Logistop de innovación colaborativa
DESCRIPTION:Desde Logistop\, asociación referente en innovación logística\, os invitamos a participar\, el lunes 24 de abril (de 09:30h a 11:00h – CEST) en el Workshop de innovación colaborativa en el que trataremos de dar respuestas a las preguntas planteadas y continuar aportando valor al impulso de la innovación en nuestro país. De la mano de Pedro Fernández de Mesa\, director de formalización de proyectos de Logistop\, en esta sesión participativa debatiremos\, analizaremos y compartiremos los siguientes temas: \n\n\n\n\nTipos de innovación\, etapas\, actores involucrados y posibles modelos (abierto vs. cerrado).\n\n\n\nDiferencia entre proyecto y operación.\n\n\n\nDiferencia entre la innovación colaborativa y la tradicional.\n\n\n\nEl ciclo de vida de un proyecto de innovación colaborativa: inicio\, organización y preparación\, ejecución del trabajo y cierre del proyecto\n\n\n\nAlgunos aspectos clave para poder iniciar un proyecto: La fijación de objetivos\, la configuración de un consorcio de éxito\, la elaboración de la propuesta de proyecto\, el proceso de evaluación de propuestas.\n\n\n\n\nSi no eres socios de Logistop y deseas asistir a este workshop\, ponte en contacto con nosotros a través del email: info@logistop.org.
URL:https://logistop.org/evento/workshop-logistop-de-innovacion-colaborativa/
LOCATION:Valencia
CATEGORIES:Workshop
ATTACH;FMTTYPE=image/png:https://logistop.org/wp-content/uploads/2025/02/Workshop-innovacion-colaborativa.png
END:VEVENT
END:VCALENDAR