BEGIN:VCALENDAR
VERSION:2.0
PRODID:-//LOGISTOP - ECPv6.9.0//NONSGML v1.0//EN
CALSCALE:GREGORIAN
METHOD:PUBLISH
X-WR-CALNAME:LOGISTOP
X-ORIGINAL-URL:https://logistop.org
X-WR-CALDESC:Eventos para LOGISTOP
REFRESH-INTERVAL;VALUE=DURATION:PT1H
X-Robots-Tag:noindex
X-PUBLISHED-TTL:PT1H
BEGIN:VTIMEZONE
TZID:Europe/Madrid
BEGIN:DAYLIGHT
TZOFFSETFROM:+0100
TZOFFSETTO:+0200
TZNAME:CEST
DTSTART:20220327T010000
END:DAYLIGHT
BEGIN:STANDARD
TZOFFSETFROM:+0200
TZOFFSETTO:+0100
TZNAME:CET
DTSTART:20221030T010000
END:STANDARD
END:VTIMEZONE
BEGIN:VEVENT
DTSTART;TZID=Europe/Madrid:20221103T093000
DTEND;TZID=Europe/Madrid:20221103T110000
DTSTAMP:20260421T092927
CREATED:20220722T054418Z
LAST-MODIFIED:20250225T155012Z
UID:4637-1667467800-1667473200@logistop.org
SUMMARY:Hacia el cero neto en las operaciones logísticas | Sesión de enfoque
DESCRIPTION:El jueves 3 de noviembre (09:30 – 11:00h [GMT+1]) Logistop organiza la sesión de enfoque «Hacia el cero neto en las operaciones logísticas»\, de acceso exclusivo para sus socios. \n\n\n\nEl objetivo de la sesión es desarrollar\, junto con los socios de Logistop que estéis interesados\, un modelo de centro logístico y de transporte que sea neutro o positivo en cuanto a emisiones de CO2 y que evite también la emisión de otros contaminantes. Para ello se partirá de las ideas expuestas en webinars anteriores y se analizarán las oportunidades y retos para desarrollar un proyecto de logística de cero emisiones. \n\n\n\n 
URL:https://logistop.org/evento/sesion-de-enfoque-hacia-el-cero-neto-en-las-operaciones-logisticas/
LOCATION:Valencia
CATEGORIES:Sesión de Enfoque
ATTACH;FMTTYPE=image/png:https://logistop.org/wp-content/uploads/2025/02/SE-0311-Hacia-el-cero-neto-LinkedIn.png
END:VEVENT
END:VCALENDAR