BEGIN:VCALENDAR
VERSION:2.0
PRODID:-//LOGISTOP - ECPv6.9.0//NONSGML v1.0//EN
CALSCALE:GREGORIAN
METHOD:PUBLISH
X-WR-CALNAME:LOGISTOP
X-ORIGINAL-URL:https://logistop.org
X-WR-CALDESC:Eventos para LOGISTOP
REFRESH-INTERVAL;VALUE=DURATION:PT1H
X-Robots-Tag:noindex
X-PUBLISHED-TTL:PT1H
BEGIN:VTIMEZONE
TZID:Europe/Madrid
BEGIN:DAYLIGHT
TZOFFSETFROM:+0100
TZOFFSETTO:+0200
TZNAME:CEST
DTSTART:20230326T010000
END:DAYLIGHT
BEGIN:STANDARD
TZOFFSETFROM:+0200
TZOFFSETTO:+0100
TZNAME:CET
DTSTART:20231029T010000
END:STANDARD
END:VTIMEZONE
BEGIN:VEVENT
DTSTART;TZID=Europe/Madrid:20230302T093000
DTEND;TZID=Europe/Madrid:20230302T110000
DTSTAMP:20260420T091653
CREATED:20230209T095239Z
LAST-MODIFIED:20250225T155003Z
UID:4660-1677749400-1677754800@logistop.org
SUMMARY:Corredores de cero emisiones entre puertos españoles (Descarbonización y sostenibilidad aplicada a la cadena logística y Logística portuaria) | Innovation Lab
DESCRIPTION:  \n\n\n\nSi no eres socio de Logistop y deseas asistir a este Innovation Lab\, ponte en contacto con nosotros a través del email: info@logistop.org. \n\n\n\nEn esta sesión tendremos como objetivo formar un grupo de socios interesados y comprometidos en participar en comunidades y grupos de trabajo vinculados a corredores verdes o de cero emisiones entre puertos nacionales e internacionales\, cubriendo las operaciones portuarias y el transporte marítimo como terrestre. \n\n\n\nLos puertos están adoptando estrategias con el objetivo de descarbonizar la comunidad portuaria\, que también tienen un alto impacto sobre las cadenas logísticas nacionales e internacionales que sirven. Debido a esto\, actualmente están trabajando intensamente en la definición de corredores de cero emisiones entre puertos y también en el “hinterland” al cual están sirviendo. Por ello\, en este Innovation Lab trataremos la definición de corredor verde\, veremos ejemplos de corredores verdes y definiremos un grupo de trabajo para articular un proyecto con socios de Logistop. \n\n\n\nLa agenda de la sesión es la siguiente: \n\n\n\n\n9:30-9:35h: Introducción y bienvenida\, por Tomás de la Vega\, director gerente de Logistop. \n\n\n\n9:35-9:45h: ¿Por qué son necesarios los green corridors?\, por Juan Carlos de Pablo\, socio de Ecoinversol y Head of Innovation de Descarbonización y sostenibilidad aplicada a la cadena logística de Logistop.\n\n\n\n9:45-10:00h: La transición energética en el Puerto de Barcelona y la estrategia de corredores verdes\, por Héctor Calls\, director de medioambiente del Port de Barcelona.\n\n\n\n10:00-10:15h: Corredores verdes a nivel nacional e internacional\, por Maurici Hervàs\, estudiante de doctorado sobre transición energética\, CENIT.\n\n\n\n10:15-10:30h: Proyecto de Corredores verdes entre puertos españoles. Identificación de las necesidades de los agentes involucrados\, por Javier Garrido\, Javier Garrido\, Researcher and Consultant\, CENIT.\n\n\n\n10:30-11:00h: Preguntas y debate. 
URL:https://logistop.org/evento/innovation-lab-corredores-de-cero-emisiones/
LOCATION:Valencia
CATEGORIES:Innovation Lab
ATTACH;FMTTYPE=image/png:https://logistop.org/wp-content/uploads/2025/02/InnovationLab.png
END:VEVENT
END:VCALENDAR