BEGIN:VCALENDAR
VERSION:2.0
PRODID:-//LOGISTOP - ECPv6.9.0//NONSGML v1.0//EN
CALSCALE:GREGORIAN
METHOD:PUBLISH
X-WR-CALNAME:LOGISTOP
X-ORIGINAL-URL:https://logistop.org
X-WR-CALDESC:Eventos para LOGISTOP
REFRESH-INTERVAL;VALUE=DURATION:PT1H
X-Robots-Tag:noindex
X-PUBLISHED-TTL:PT1H
BEGIN:VTIMEZONE
TZID:Europe/Madrid
BEGIN:DAYLIGHT
TZOFFSETFROM:+0100
TZOFFSETTO:+0200
TZNAME:CEST
DTSTART:20230326T010000
END:DAYLIGHT
BEGIN:STANDARD
TZOFFSETFROM:+0200
TZOFFSETTO:+0100
TZNAME:CET
DTSTART:20231029T010000
END:STANDARD
END:VTIMEZONE
BEGIN:VEVENT
DTSTART;TZID=Europe/Madrid:20230504T093000
DTEND;TZID=Europe/Madrid:20230504T110000
DTSTAMP:20260422T042500
CREATED:20230209T100519Z
LAST-MODIFIED:20250225T154958Z
UID:4662-1683192600-1683198000@logistop.org
SUMMARY:Innovation Lab | Proyectos Innovadores para alcanzar una la Logística Urbana 4.0
DESCRIPTION:  \n\n\n\nEl próximo jueves 4 de mayo\, de 09:30h a 11:00h (CEST) desde Logistop llevaremos a cabo el Innovation Lab – Proyectos Innovadores para alcanzar una la Logística Urbana 4.0\, una sesión en la que tendremos como objetivo la identificación de ideas que puedan resultar en el desarrollo de proyecto innovadores en Logística Urbana ya que cada vez se hace más necesario el desarrollo de nuevos modelos de distribución en los que la colaboración y la planificación inteligente deben ser los principales ejes del cambio. Para ello es necesario el desarrollo de ideas innovadoras que puedan dar respuesta al reto del desarrollo de ciudades descarbonizadas y digitales donde la logística urbana juega un papel fundamental. \n\n\n\nComo idea inspiradora se presentará el Proyecto Europeo DISCO  «Data-driven\, Integrated\, Syncromodal\, Collaborative and Optimised urban freight meta model for a new generation of urban logistics and planning with data sharing at European Living Labs»  y cuyo objetivo parte del cambio de paradigma de la logística y planificación urbana a través del Physical Internet  involucrando a todos los stakeholder involucrados en la logística urbana hacia un modelo más innovador\, inclusivo\, hiperconectado y basadas en datos. Busca la democratización de los servicios de transporte y logística considerando la adopción masiva de dispositivos y nuevas tecnologías\, para conectar de manera inteligente la oferta y la demanda en la logística urbana siendo así accesible para todos. \n\n\n\nPara ello\, contaremos\, entre otros\, con Daniel Latorre\, Head of Innovation de Logística Urbana de Logistop y director general adjunto de CITYlogin\, y Carolina Ciprés\, Vice-head of Innovation de Logística Urbana de Logistop y Director of Research\, Zaragoza Logistics Center (ZLC). \n\n\n\nSi no eres socios de Logistop y deseas asistir a este Innovation Lab\, ponte en contacto con nosotros a través del email: info@logistop.org.
URL:https://logistop.org/evento/innovation-lab-logistica-urbana/
CATEGORIES:Innovation Lab
ATTACH;FMTTYPE=image/png:https://logistop.org/wp-content/uploads/2025/02/InnovationLab-1.png
END:VEVENT
BEGIN:VEVENT
DTSTART;TZID=Europe/Madrid:20230509T090000
DTEND;TZID=Europe/Madrid:20230509T180000
DTSTAMP:20260422T042500
CREATED:20230209T084018Z
LAST-MODIFIED:20250225T154958Z
UID:4648-1683622800-1683655200@logistop.org
SUMMARY:Jornada de aportación de valor | Foro nacional en transporte y logística: automatización y digitalización en el transporte y la logística”
DESCRIPTION:  \n\n\n\nDesde Logistop\, en colaboración con nuestro socio CARTIF\, os invitamos a participar en la jornada de aportación de valor “Foro nacional en transporte y logística: automatización y digitalización en el transporte y la logística”\, enmarcado dentro de nuestra línea estratégica de Digitalización y automatización de los procesos para una logística eficiente e interconectada el próximo día 9 de mayo en Valladolid (evento exclusivamente presencial). \n\n\n\nEl objeto de este foro es crear espacios de intercambio de buenas prácticas de negocio y nuevas tendencias\, facilitando a las empresas y a los agentes económicos y de innovación experiencias y conocimiento sobre nuevas tecnologías y sobre materias de interés estratégico\, alineadas con los ámbitos económicos de interés estratégico de la región. Los sectores a los que va dirigidas las ponencias son transporte\, logística\, empresas automatizadoras\, fabricantes de bienes de equipo\, empresas TICs\, comercializadoras\, distribuidoras y en general empresas fabricantes industriales y agroalimentarios con necesidades logísticas\, tanto de gestión interna como de conexión con las redes de distribución y entidades públicas. \n\n\n\nEl foro plantea diferentes actuaciones que permitan a los asistentes recibir información técnica de alto interés\, a través de la participación de entidades y ponentes de reconocido prestigio\, generación de entornos de interacción común y actividades de networking más cercanas de forma que se puedan iniciar o reforzar sinergias y alianzas en este ámbito. \n\n\n\nInformación e inscripción obligatoria en https://forotransporteylogistica.es/.
URL:https://logistop.org/evento/jornada-aportacion-de-valor-automatizacion-y-digitalizacion/
CATEGORIES:Jornada de aportación de valor
ATTACH;FMTTYPE=image/png:https://logistop.org/wp-content/uploads/2025/02/Foro-Nacional-Transporte-y-Logistica_Valladolid.png
END:VEVENT
BEGIN:VEVENT
DTSTART;TZID=Europe/Madrid:20230517T093000
DTEND;TZID=Europe/Madrid:20230517T110000
DTSTAMP:20260422T042500
CREATED:20230209T101142Z
LAST-MODIFIED:20250225T154957Z
UID:4664-1684315800-1684321200@logistop.org
SUMMARY:Innovation Lab |Análisis de ideas y oportunidades para desarrollar iniciativas de espacios de datos compartidos
DESCRIPTION:El próximo miércoles 17 de mayo\, de 09:30h a 11:00h (CEST) desde Logistop llevaremos a cabo el Innovation Lab – Análisis de ideas y oportunidades para desarrollar iniciativas de espacios de datos compartidos\, una sesión en la que\, a partir de las presentaciones previas en la línea de trabajo de Digitalización y automatización de los procesos para una logística eficiente y conectada\, se realizará un análisis de oportunidades\, ventajas\, riesgos y limitaciones de los espacios de datos colaborativos a través de una dinámica interactiva entre los asistentes para identificar intereses\, posibles iniciativas y casos de uso que se puedan desarrollar en proyectos de innovación. \n\n\n\nLa sesión estará moderada por David Ciprés\, responsable línea de investigación\, ITAINNOVA\, y Javier Olmos\, responsable estrategia y desarrollo de negocio. Soluciones industriales\, digitales y electromovilidad. I+D\, CARTIF\, ambos Head of Innovation de Digitalización y automatización de los procesos para una logística eficiente y conectada Logistop. \n\n\n\nSi no eres socios de Logistop y deseas asistir a este Innovation Lab\, ponte en contacto con nosotros a través del email: info@logistop.org.
URL:https://logistop.org/evento/innovation-lab-analisis-de-ideas-y-oportunidades-espacios-de-datos-compartidos/
CATEGORIES:Innovation Lab
ATTACH;FMTTYPE=image/png:https://logistop.org/wp-content/uploads/2025/02/InnovationLab_espacios-de-datos-compartidos.png
END:VEVENT
BEGIN:VEVENT
DTSTART;TZID=Europe/Madrid:20230525T090000
DTEND;TZID=Europe/Madrid:20230525T113000
DTSTAMP:20260422T042500
CREATED:20230503T082211Z
LAST-MODIFIED:20250225T154956Z
UID:4666-1685005200-1685014200@logistop.org
SUMMARY:Los edificios logísticos ante la transición energética: desafíos y oportunidades | Jornada híbrida
DESCRIPTION:Logistop\, en colaboración con APPUNLE y Dentons Europe Abogados\, organiza la jornada híbrida “Los edificios logísticos ante la transición energética: desafíos y oportunidades” con el objetivo de difundir la temática y formar un grupo de socios interesados y comprometidos en participar en comunidades y grupos de trabajo que puedan desarrollar proyectos colectivos vinculados a la transición energética y los edificios logísticos. Los proyectos de esta envergadura requieren de la participación de diversos stakeholders de la cadena logística. \n\n\n\nLa reunión presencial se celebrará en las instalaciones de Dentons Europe Abogados (Pº Castellana\, 53\, 8º\, Madrid). Tanto para asistir de manera presencial como online es imprescindible registrarse. Si no eres socios de Logistop y deseas asistir a esta jornada\, ponte en contacto con nosotros a través del email: info@logistop.org. \n\n\n\nLos agentes que intervienen en el ciclo de vida de naves y oficinas del sector logístico -promotores\, propietarios y usuarios- están adoptando medidas con el objetivo de contribuir a descarbonizar y hacer sostenibles las actividades logísticas. Ante un entorno regulatorio y tecnológico cambiante\, se plantean la mejor estrategia a seguir durante un proceso de transición energética ya iniciado y que durará varias décadas. Y para tratar todo ello contaremos con el siguiente programa: \n\n\n\n\n09:00h. Recepción asistentes (presencial).\n\n\n\n09:30h. Bienvenida\, por Tomás de la Vega\, director gerente\, Logistop\, y Antonio Roncero\, vocal\, APPUNLE.\n\n\n\n09:40h. Perspectiva técnica y empresarial: qué supone la transición energética para los edificios logísticos\, por Juan Carlos de Pablo Olaiz\, Head of Innovation de Descarbonización y sostenibilidad\, Logistop.\n\n\n\n10:00h. La contribución de la digitalización en la gestión eficiente de los edificios\, por Javier Orellana\, experto en Gestión Energética y Smart Buildings.  \n\n\n\n10:20h. Autoconsumo como estrategia para la transición energética\, por Luis Gil\, Senior Counsel\, Dentons Abogados.\n\n\n\n10:40h. Diálogo.\n\n\n\n10:55h. Cierre\, por Daniel Vázquez\, socio y director del Departamento de Derecho Público y del Medio Ambiente\, Dentons Abogados.\n\n\n\n11:00h. Café – Networking (presencial).\n\n\n\n\n 
URL:https://logistop.org/evento/edificios-logisticos-ante-la-transicion-energetica/
CATEGORIES:Colaboración
ATTACH;FMTTYPE=image/png:https://logistop.org/wp-content/uploads/2025/02/Los-edificios-logisticos-ante-la-transicion-energetica-desafios-y-oportunidades.png
END:VEVENT
BEGIN:VEVENT
DTSTART;TZID=Europe/Madrid:20230531T093000
DTEND;TZID=Europe/Madrid:20230531T113000
DTSTAMP:20260422T042500
CREATED:20230209T090601Z
LAST-MODIFIED:20250225T154956Z
UID:4654-1685525400-1685532600@logistop.org
SUMMARY:LogisTalks | Logística urbana: claves para afrontarla con éxito
DESCRIPTION:El próximo miércoles 31 de mayo (de 09:30h a 11:30h – CEST) desde Logistop organizamos el evento LogisTalks “Logística urbana: claves para afrontarla con éxito”. Inscripción en este enlace. La logística urbana se ha convertido en un reto cada vez más importante en el mundo actual. ¿Estamos preparados\, tanto a nivel público como privado\, para hacer frente a estos nuevos retos? Colaboración\, uso de las diferentes tecnologías disponibles\, sostenibilidad\, cambio de vehículos\, adaptación de infraestructuras\, normativas y legislaciones… son algunos de los factores clave que la logística urbana debe abordar para superar los retos logísticos planteados en el entorno urbano. Su aplicación nos permitirá alcanzar con éxito la transformación de la logística urbana. De la mano de expertos en la materia\, analizaremos y debatiremos cuáles son las claves para afrontar estos desafíos planteados por la logística urbana con éxito. El programa de la sesión\, moderada por Tomás de la Vega\, director gerente de Logistop\, es el siguiente:  \n\n\n\n\nEU policy and research priorities for zero-emission urban logistics\, por Paola Chiarini\, Policy officer\, Innovation and Research\, DG Mobility and Transport\, European Commission.\n\n\n\nLa logística urbana en España hoy. Retos y riesgos\, por Pablo Gómez\, presidente\, Logistop\, y Managing Director\, FM Logistic Ibérica.\n\n\n\nAnhelos\, retos y soluciones de la distribución urbana de mercancías\, por Sergi Saurí\, director\, Centro de Innovación del Transporte (CENIT).\n\n\n\nEl papel de la tecnología en la logística urbana; espacios de datos\, por Estíbaliz Loyo Mendivil\, responsable del área de Sistemas Inteligentes para movilidad y logística\, Vicomtech.\n\n\n\nMesa redonda.\n\n\n\n\n ¡Os esperamos el próximo 31 de mayo! No olvides inscribirte en este enlace. Para más información puedes escribirnos a info@logistop.org. \n\n\n\n 
URL:https://logistop.org/evento/logistalks-logistica-urbana/
CATEGORIES:LogisTalks
ATTACH;FMTTYPE=image/png:https://logistop.org/wp-content/uploads/2025/02/LogisTalks-Logistica-urbana-claves-para-afrontarla-con-exito.png
END:VEVENT
END:VCALENDAR