BEGIN:VCALENDAR
VERSION:2.0
PRODID:-//LOGISTOP - ECPv6.9.0//NONSGML v1.0//EN
CALSCALE:GREGORIAN
METHOD:PUBLISH
X-WR-CALNAME:LOGISTOP
X-ORIGINAL-URL:https://logistop.org
X-WR-CALDESC:Eventos para LOGISTOP
REFRESH-INTERVAL;VALUE=DURATION:PT1H
X-Robots-Tag:noindex
X-PUBLISHED-TTL:PT1H
BEGIN:VTIMEZONE
TZID:Europe/Madrid
BEGIN:DAYLIGHT
TZOFFSETFROM:+0100
TZOFFSETTO:+0200
TZNAME:CEST
DTSTART:20230326T010000
END:DAYLIGHT
BEGIN:STANDARD
TZOFFSETFROM:+0200
TZOFFSETTO:+0100
TZNAME:CET
DTSTART:20231029T010000
END:STANDARD
END:VTIMEZONE
BEGIN:VEVENT
DTSTART;TZID=Europe/Madrid:20231003T093000
DTEND;TZID=Europe/Madrid:20231003T110000
DTSTAMP:20260421T025853
CREATED:20230703T121135Z
LAST-MODIFIED:20250225T154850Z
UID:4677-1696325400-1696330800@logistop.org
SUMMARY:Innovation Lab | Cómo utilizar los espacios de datos para mejorar los negocios logísticos
DESCRIPTION:En este Innovation Lab\, bajo el título\, «Cómo utilizar los espacios de datos para mejorar los negocios logísticos» exploraremos cómo las empresas pueden aprovechar los espacios de datos para optimizar sus operaciones logísticas y cadena de suministro. Se presentarán las utilidades de los marketplace dentro de los espacios de datos\, en esta ocasión con una experta en Gaia-X. Veremos las diferentes formas de utilizar los espacios de datos y los servicios que pueden crear las empresas. Recordamos que este evento es exclusivo para socios de Logistop.\, exploraremos cómo las empresas pueden aprovechar los espacios de datos para optimizar sus operaciones logísticas y cadena de suministro. Se presentarán las utilidades de los marketplace dentro de los espacios de datos\, en esta ocasión con una experta en Gaia-X. Veremos las diferentes formas de utilizar los espacios de datos y los servicios que pueden crear las empresas. \n\n\n\nModeradores:  \n\n\n\n\nDavid Ciprés\, responsable línea de Data Analitics\, Digital Twin\, IoT y Blockchain aplicado a procesos industriales y logísticos en ITAINNOVA; y Head of Innovation de la línea estratégica de Digitalización y automatización de los procesos para una logística eficiente e interconectada.\n\n\n\nEstibaliz Loyo\, Director of Intelligent Systems for Mobility and Logistics\, Vicomtech.\n\n\n\n\nAgenda: \n\n\n\n\nIntroducción y presentación. \n\n\n\nPonencia: Francisca Rubio Berenguel\, General manager Gaia-X Spain.\n\n\n\nSesión de preguntas y debate. \n\n\n\nConclusión y cierre.  \n\n\n\n\nSi no eres socios de Logistop y deseas asistir a este Innovation Lab\, ponte en contacto con nosotros a través del email: info@logistop.org.
URL:https://logistop.org/evento/innovation-lab-espacios-datos-mejorar-espacios-logisticos/
CATEGORIES:Innovation Lab
ATTACH;FMTTYPE=image/png:https://logistop.org/wp-content/uploads/2025/02/InnovationLab.png
END:VEVENT
BEGIN:VEVENT
DTSTART;TZID=Europe/Madrid:20231018T093000
DTEND;TZID=Europe/Madrid:20231018T110000
DTSTAMP:20260421T025853
CREATED:20230703T122022Z
LAST-MODIFIED:20250225T154849Z
UID:4678-1697621400-1697626800@logistop.org
SUMMARY:Innovation Lab | Resiliencia de las Cadenas Marítimo-Portuarias y Logísticas
DESCRIPTION:En este Innovation Lab bajo el título «Resiliencia de las Cadenas Marítimo-Portuarias y Logísticas» tendremos como objetivo identificar las vulnerabilidades actuales presentes en el transporte marítimo\, los puertos y sus cadenas logísticas asociadas. Se pretende establecer una visión conjunta sobre los actuales riesgos a los que se enfrentan dichas cadenas: tecnológicos (ciber-seguridad)\, económicos (inflación)\, geo-estratégicos (crisis energética\, conflictos bélicos\, etc.). \n\n\n\nLos temas que trataremos son los siguientes:  \n\n\n\n\n¿Cuáles son las principales vulnerabilidades que afectan a la operativa en las cadenas logístico-portuarias?\n\n\n\n¿Cómo puede la tecnología actual contribuir a mitigar dichas vulnerabilidades? ¿Tenemos ejemplos de estas aplicaciones?\n\n\n\n¿Cómo deberían las organizaciones prepararse y/o adaptarse para protegerse frente a los riesgos y amenazas descritos?\n\n\n\n\nSi no eres socios de Logistop y deseas asistir a este Innovation Lab\, ponte en contacto con nosotros a través del email: info@logistop.org.
URL:https://logistop.org/evento/innovation-lab-resiliencia-de-las-cadenas-maritimo-portuarias-y-logisticas/
CATEGORIES:Innovation Lab
ATTACH;FMTTYPE=image/png:https://logistop.org/wp-content/uploads/2025/02/Logo-Logistop-eventos.png
END:VEVENT
BEGIN:VEVENT
DTSTART;TZID=Europe/Madrid:20231031T093000
DTEND;TZID=Europe/Madrid:20231031T113000
DTSTAMP:20260421T025853
CREATED:20230703T091500Z
LAST-MODIFIED:20250225T154849Z
UID:4670-1698744600-1698751800@logistop.org
SUMMARY:LogisTalks | Descarbonización de la cadena logística: estrategias y acciones empresariales
DESCRIPTION:El  martes 31 de octubre (de 09:30h a 11:30h – CET) desde Logistop organizamos el evento online LogisTalks Descarbonización de la cadena logística: estrategias y acciones empresariales enmarcado en nuestra línea estratégica de Descarbonización y sostenibilidad aplicada a la cadena logística. \n\n\n\nDe la mano de expertos en la materia\, analizaremos y debatiremos qué estrategias de innovación están implementando las empresas para abordar los retos que presenta la descarbonización de la cadena logística a los actores involucrados. El programa de la sesión\, moderada por Tomás de la Vega\, director gerente de Logistop\, es el siguiente: \n\n\n\n\n«Estrategia de Innovación en la Autoridad Portuaria de Castellón»\, por Bernat Ibáñez\, jefe de unidad de Innovación\, Autoridad Portuaria de Castellón.\n\n\n\n«Ecología de la sostenibilidad en PYMES de Transporte terrestre»\, por Rodrigo Fernández\, director comercial\, Butransa.\n\n\n\n«Descarbonización en FM Logistic: Supply Change»\, por Leire Armendariz\, directora técnica: Estudios Comerciales\, Gestión de Proyectos y Sostenibilidad\, FM Logistic.\n\n\n\n«Descarbonización en la DUM: Hubs Urbanos«\, por Javier Niño Gómez\, coordinador Logística y Aprovisionamiento\, Grupo Voldis.\n\n\n\n«Essity hacia la emisión ”cero”: por el bienestar de las personas y el planeta»\, por María José Jiménez Hernández\, Medical EU Distribution Manager (Essity HMS div)\, Essity.\n\n\n\n«Descarbonización de la cadena logística desde la perspectiva europea»\, por Fernando Liesa\, secretario general\, ALICE.\n\n\n\nMesa redonda. \n\n\n\n\n¡Os esperamos el próximo 31 de octubre! \n\n\n\nInscripción en este enlace.
URL:https://logistop.org/evento/logistalks-ddescarbonizacion-de-la-cadena-logistica/
CATEGORIES:LogisTalks
END:VEVENT
END:VCALENDAR